BEGIN:VCALENDAR
VERSION:2.0
PRODID:-//Lourdes Forane Church - ECPv6.15.17.1//NONSGML v1.0//EN
CALSCALE:GREGORIAN
METHOD:PUBLISH
X-WR-CALNAME:Lourdes Forane Church
X-ORIGINAL-URL:https://www.lourdesforane.com
X-WR-CALDESC:Events for Lourdes Forane Church
REFRESH-INTERVAL;VALUE=DURATION:PT1H
X-Robots-Tag:noindex
X-PUBLISHED-TTL:PT1H
BEGIN:VTIMEZONE
TZID:Asia/Kolkata
BEGIN:STANDARD
TZOFFSETFROM:+0530
TZOFFSETTO:+0530
TZNAME:IST
DTSTART:20220101T000000
END:STANDARD
END:VTIMEZONE
BEGIN:VTIMEZONE
TZID:Asia/Kolkata
BEGIN:STANDARD
TZOFFSETFROM:+0530
TZOFFSETTO:+0530
TZNAME:IST
DTSTART:20170101T000000
END:STANDARD
END:VTIMEZONE
BEGIN:VEVENT
DTSTART;VALUE=DATE:20230205
DTEND;VALUE=DATE:20230206
DTSTAMP:20260424T004304
CREATED:20230205T161412Z
LAST-MODIFIED:20230407T081316Z
UID:2850-1675555200-1675641599@www.lourdesforane.com
SUMMARY:St. Mary's & St. Sebastian's Feast 2023
DESCRIPTION:St. Mary’s & St. Sebastian’s Feast
URL:https://www.lourdesforane.com/event/st-marys-st-sebastians-feast/
LOCATION:Lourdes Forane Church\, Sathy Road\, Gandhipuram\,\, Coimbatore\, Tamil Nadu\, 641012\, India
CATEGORIES:Feast
END:VEVENT
BEGIN:VEVENT
DTSTART;VALUE=DATE:20190613
DTEND;VALUE=DATE:20190614
DTSTAMP:20260424T004304
CREATED:20190620T173021Z
LAST-MODIFIED:20230522T132448Z
UID:2208-1560384000-1560470399@www.lourdesforane.com
SUMMARY:Feast of Saint Antony
DESCRIPTION:
URL:https://www.lourdesforane.com/event/feast-of-saint-antony-old/
LOCATION:Tamil Nadu
CATEGORIES:Feast
ATTACH;FMTTYPE=image/jpeg:https://www.lourdesforane.com/wp-content/uploads/2018/06/St.-Antony.jpg
END:VEVENT
BEGIN:VEVENT
DTSTART;VALUE=DATE:20181225
DTEND;VALUE=DATE:20181226
DTSTAMP:20260424T004304
CREATED:20180303T201126Z
LAST-MODIFIED:20180303T201126Z
UID:370-1545696000-1545782399@www.lourdesforane.com
SUMMARY:Christmas 2018
DESCRIPTION:
URL:https://www.lourdesforane.com/event/christmas-2018/
LOCATION:Tamil Nadu
END:VEVENT
BEGIN:VEVENT
DTSTART;VALUE=DATE:20181213
DTEND;VALUE=DATE:20181214
DTSTAMP:20260424T004304
CREATED:20181213T031633Z
LAST-MODIFIED:20181213T031633Z
UID:1880-1544659200-1544745599@www.lourdesforane.com
SUMMARY:Rom 12: 9-18 \, Lk 1: 39-45
DESCRIPTION:
URL:https://www.lourdesforane.com/event/rom-12-9-18-lk-1-39-45/
LOCATION:Tamil Nadu
END:VEVENT
BEGIN:VEVENT
DTSTART;VALUE=DATE:20181102
DTEND;VALUE=DATE:20181103
DTSTAMP:20260424T004304
CREATED:20180908T091340Z
LAST-MODIFIED:20180908T092746Z
UID:1668-1541116800-1541203199@www.lourdesforane.com
SUMMARY:Commemoration of the Dead (All Souls Day) 2018
DESCRIPTION:
URL:https://www.lourdesforane.com/event/all-souls-day-2018/
LOCATION:Tamil Nadu
END:VEVENT
BEGIN:VEVENT
DTSTART;VALUE=DATE:20181101
DTEND;VALUE=DATE:20181102
DTSTAMP:20260424T004304
CREATED:20180908T092026Z
LAST-MODIFIED:20180908T092708Z
UID:1672-1541030400-1541116799@www.lourdesforane.com
SUMMARY:All Saints Day 2018
DESCRIPTION:
URL:https://www.lourdesforane.com/event/all-saints-day-2018/
LOCATION:Tamil Nadu
END:VEVENT
BEGIN:VEVENT
DTSTART;VALUE=DATE:20180927
DTEND;VALUE=DATE:20180928
DTSTAMP:20260424T004304
CREATED:20180908T092511Z
LAST-MODIFIED:20180908T092511Z
UID:1676-1538006400-1538092799@www.lourdesforane.com
SUMMARY:St. Vincent de Paul Feast - 2018
DESCRIPTION:
URL:https://www.lourdesforane.com/event/st-vincent-de-paul-feast-2018/
LOCATION:Tamil Nadu
END:VEVENT
BEGIN:VEVENT
DTSTART;VALUE=DATE:20180908
DTEND;VALUE=DATE:20180909
DTSTAMP:20260424T004304
CREATED:20180908T092639Z
LAST-MODIFIED:20180908T092639Z
UID:1679-1536364800-1536451199@www.lourdesforane.com
SUMMARY:The Nativity of Our Lady Feast 2018
DESCRIPTION:
URL:https://www.lourdesforane.com/event/the-nativity-of-our-lady-feast-2018/
LOCATION:Tamil Nadu
END:VEVENT
BEGIN:VEVENT
DTSTART;VALUE=DATE:20180905
DTEND;VALUE=DATE:20180906
DTSTAMP:20260424T004304
CREATED:20180908T092409Z
LAST-MODIFIED:20180908T092535Z
UID:1674-1536105600-1536191999@www.lourdesforane.com
SUMMARY:St. Mother Theresa Feast 2018
DESCRIPTION:
URL:https://www.lourdesforane.com/event/st-mother-theresa-feast-2018/
LOCATION:Tamil Nadu
END:VEVENT
BEGIN:VEVENT
DTSTART;VALUE=DATE:20180617
DTEND;VALUE=DATE:20180618
DTSTAMP:20260424T004304
CREATED:20180611T145041Z
LAST-MODIFIED:20180611T145041Z
UID:1370-1529193600-1529279999@www.lourdesforane.com
SUMMARY:Sports Day Starts on June 2018
DESCRIPTION:
URL:https://www.lourdesforane.com/event/sports-day-starts-on-june-2018/
LOCATION:Tamil Nadu
END:VEVENT
BEGIN:VEVENT
DTSTART;VALUE=DATE:20180401
DTEND;VALUE=DATE:20180402
DTSTAMP:20260424T004304
CREATED:20180303T201056Z
LAST-MODIFIED:20180303T201056Z
UID:368-1522540800-1522627199@www.lourdesforane.com
SUMMARY:Easter 2018
DESCRIPTION:
URL:https://www.lourdesforane.com/event/easter-2018/
LOCATION:Tamil Nadu
END:VEVENT
BEGIN:VEVENT
DTSTART;VALUE=DATE:20180331
DTEND;VALUE=DATE:20180401
DTSTAMP:20260424T004304
CREATED:20180306T210814Z
LAST-MODIFIED:20180306T210814Z
UID:419-1522454400-1522540799@www.lourdesforane.com
SUMMARY:Holy Saturday 2018
DESCRIPTION:
URL:https://www.lourdesforane.com/event/holy-saturday-2018/
LOCATION:Tamil Nadu
END:VEVENT
BEGIN:VEVENT
DTSTART;VALUE=DATE:20180330
DTEND;VALUE=DATE:20180331
DTSTAMP:20260424T004304
CREATED:20180303T201009Z
LAST-MODIFIED:20180303T201009Z
UID:366-1522368000-1522454399@www.lourdesforane.com
SUMMARY:Good Friday 2018
DESCRIPTION:
URL:https://www.lourdesforane.com/event/good-friday-2018/
LOCATION:Tamil Nadu
END:VEVENT
BEGIN:VEVENT
DTSTART;VALUE=DATE:20180329
DTEND;VALUE=DATE:20180330
DTSTAMP:20260424T004304
CREATED:20180306T210727Z
LAST-MODIFIED:20180306T210727Z
UID:417-1522281600-1522367999@www.lourdesforane.com
SUMMARY:Maundy Thursday 2018
DESCRIPTION:
URL:https://www.lourdesforane.com/event/maundy-thursday-2018/
LOCATION:Tamil Nadu
END:VEVENT
BEGIN:VEVENT
DTSTART;VALUE=DATE:20180325
DTEND;VALUE=DATE:20180326
DTSTAMP:20260424T004304
CREATED:20180306T210637Z
LAST-MODIFIED:20180306T210637Z
UID:415-1521936000-1522022399@www.lourdesforane.com
SUMMARY:Palm Sunday 2018
DESCRIPTION:
URL:https://www.lourdesforane.com/event/palm-sunday-2018/
LOCATION:Tamil Nadu
END:VEVENT
BEGIN:VEVENT
DTSTART;TZID=Asia/Kolkata:20180304T090000
DTEND;TZID=Asia/Kolkata:20180304T140000
DTSTAMP:20260424T004304
CREATED:20180303T194247Z
LAST-MODIFIED:20180303T194247Z
UID:331-1520154000-1520172000@www.lourdesforane.com
SUMMARY:Family Apostolate
DESCRIPTION:Family Apostolate
URL:https://www.lourdesforane.com/event/family-apostolate/
LOCATION:Tamil Nadu
END:VEVENT
BEGIN:VEVENT
DTSTART;VALUE=DATE:20180212
DTEND;VALUE=DATE:20180213
DTSTAMP:20260424T004304
CREATED:20180306T210945Z
LAST-MODIFIED:20180306T210945Z
UID:421-1518393600-1518479999@www.lourdesforane.com
SUMMARY:Ash Monday 2018
DESCRIPTION:
URL:https://www.lourdesforane.com/event/ash-monday-2018/
LOCATION:Tamil Nadu
END:VEVENT
END:VCALENDAR